BEGIN:VCALENDAR
VERSION:2.0
PRODID:-// - ECPv5.3.2.1//NONSGML v1.0//EN
CALSCALE:GREGORIAN
METHOD:PUBLISH
X-ORIGINAL-URL:https://metroeastswimming.com.au
X-WR-CALDESC:Events for 
BEGIN:VTIMEZONE
TZID:Australia/Melbourne
BEGIN:STANDARD
TZOFFSETFROM:+1100
TZOFFSETTO:+1000
TZNAME:AEST
DTSTART:20210403T160000
END:STANDARD
BEGIN:DAYLIGHT
TZOFFSETFROM:+1000
TZOFFSETTO:+1100
TZNAME:AEDT
DTSTART:20211002T160000
END:DAYLIGHT
END:VTIMEZONE
BEGIN:VEVENT
DTSTART;TZID=Australia/Melbourne:20210321T090000
DTEND;TZID=Australia/Melbourne:20210321T170000
DTSTAMP:20210225T040830
CREATED:20200526T122353Z
LAST-MODIFIED:20210204T050305Z
UID:1307-1616317200-1616346000@metroeastswimming.com.au
SUMMARY:Metro East District Championships 2021 - Details coming soon
DESCRIPTION:Metro East District Championships 2021 is planned to be held on Sunday 21st March\, 2021 at\nMONASH AQUATIC & RECREATION CENTRE (50m Outdoor Heated Pool)\n626 Waverley Rd\, Glen Waverley\, VIC 3150\nPool Entry and Warm Up: 8:00 am\, Events Start: 9:00 am
URL:https://metroeastswimming.com.au/event/metro-east-district-championships-2021-subject-to-confirmation/
CATEGORIES:Meets
END:VEVENT
END:VCALENDAR